BEGIN:VCALENDAR
VERSION:2.0
PRODID:-//Regina Ski Club - ECPv6.15.11//NONSGML v1.0//EN
CALSCALE:GREGORIAN
METHOD:PUBLISH
X-WR-CALNAME:Regina Ski Club
X-ORIGINAL-URL:https://reginaskiclub.ca
X-WR-CALDESC:Events for Regina Ski Club
REFRESH-INTERVAL;VALUE=DURATION:PT1H
X-Robots-Tag:noindex
X-PUBLISHED-TTL:PT1H
BEGIN:VTIMEZONE
TZID:America/Regina
BEGIN:STANDARD
TZOFFSETFROM:-0600
TZOFFSETTO:-0600
TZNAME:CST
DTSTART:20210101T000000
END:STANDARD
END:VTIMEZONE
BEGIN:VEVENT
DTSTART;TZID=America/Regina:20260222T140000
DTEND;TZID=America/Regina:20260222T160000
DTSTAMP:20260424T163423
CREATED:20251124T190035Z
LAST-MODIFIED:20260123T174145Z
UID:9936-1771768800-1771776000@reginaskiclub.ca
SUMMARY:White Butte Wonderland Ski | February 22
DESCRIPTION:Please join us in \nSki the trails and meet and greet fellow ski club members at the next social gathering! \nWhite Butte ski shelter \nCoffee\, hot chocolate will be served. \nBring your own snacks
URL:https://reginaskiclub.ca/event/white-butte-wonderland-ski-february-22/
LOCATION:Trailhead Shelter\, White Butte Ski Trails\, White Butte Ski Trails\, Pilot Butte\, SK\, Canada
CATEGORIES:Club Events
ORGANIZER;CN="Leona Spruyt":MAILTO:lspruyt@sasktel.net
END:VEVENT
BEGIN:VEVENT
DTSTART;TZID=America/Regina:20251207T140000
DTEND;TZID=America/Regina:20251207T160000
DTSTAMP:20260424T163423
CREATED:20251124T185324Z
LAST-MODIFIED:20251127T014137Z
UID:9934-1765116000-1765123200@reginaskiclub.ca
SUMMARY:Warm Up to Winter at White Butte | December 7 |
DESCRIPTION:Meet and greet fellow ski club members at the next social gathering!\nLearn about ski club programs for all levels.\nCoffee\, hot chocolate will be served. Bring your own snacks. \n\n\n\n\n\n\n\n\n\n\n\n\n\n\n\n 
URL:https://reginaskiclub.ca/event/warm-up-to-winter-at-white-butte-december-7/
LOCATION:Trailhead Shelter\, White Butte Ski Trails\, White Butte Ski Trails\, Pilot Butte\, SK\, Canada
CATEGORIES:Club Events
END:VEVENT
BEGIN:VEVENT
DTSTART;TZID=America/Regina:20240121T133000
DTEND;TZID=America/Regina:20240121T153000
DTSTAMP:20260424T163423
CREATED:20240114T032024Z
LAST-MODIFIED:20240114T032024Z
UID:9026-1705843800-1705851000@reginaskiclub.ca
SUMMARY:Super Sunday Ski
DESCRIPTION:[vc_row type=”in_container” full_screen_row_position=”middle” column_margin=”default” column_direction=”default” column_direction_tablet=”default” column_direction_phone=”default” scene_position=”center” text_color=”dark” text_align=”left” row_border_radius=”none” row_border_radius_applies=”bg” overlay_strength=”0.3″ gradient_direction=”left_to_right” shape_divider_position=”bottom” bg_image_animation=”none”][vc_column column_padding=”no-extra-padding” column_padding_tablet=”inherit” column_padding_phone=”inherit” column_padding_position=”all” column_element_spacing=”default” background_color_opacity=”1″ background_hover_color_opacity=”1″ column_shadow=”none” column_border_radius=”none” column_link_target=”_self” gradient_direction=”left_to_right” overlay_strength=”0.3″ width=”1/1″ tablet_width_inherit=”default” tablet_text_alignment=”default” phone_text_alignment=”default” bg_image_animation=”none” border_type=”simple” column_border_width=”none” column_border_style=”solid”][vc_column_text]\nSuper Sunday Ski \nWhite Butte Trails are open!!\nSki the trails and have a hot beverage\nThe coffee will be on from 1:30 – 3:30\nWhite Butte main trailhead shelter\nSunday January 21st\nBring your own snacks \nNew members are encouraged to attend and learn about the trails and the club\nBuy your membership – support the club and trail system \n[/vc_column_text][/vc_column][/vc_row][vc_row type=”in_container” full_screen_row_position=”middle” column_margin=”default” column_direction=”default” column_direction_tablet=”default” column_direction_phone=”default” scene_position=”center” text_color=”dark” text_align=”left” row_border_radius=”none” row_border_radius_applies=”bg” overlay_strength=”0.3″ gradient_direction=”left_to_right” shape_divider_position=”bottom” bg_image_animation=”none”][vc_column column_padding=”no-extra-padding” column_padding_tablet=”inherit” column_padding_phone=”inherit” column_padding_position=”all” column_element_spacing=”default” centered_text=”true” background_color_opacity=”1″ background_hover_color_opacity=”1″ column_shadow=”none” column_border_radius=”none” column_link_target=”_self” gradient_direction=”left_to_right” overlay_strength=”0.3″ width=”1/1″ tablet_width_inherit=”default” tablet_text_alignment=”default” phone_text_alignment=”default” bg_image_animation=”none” border_type=”simple” column_border_width=”none” column_border_style=”solid”][nectar_btn size=”large” open_new_tab=”true” button_style=”regular” button_color_2=”Accent-Color” color_override=”#026dbb” solid_text_color_override=”#ffffff” icon_family=”none” text=”Super Sunday Ski Poster” url=”https://reginaskiclub.ca/wp-content/uploads/2024/01/Super-Sunday-Ski.pdf”][/vc_column][/vc_row]
URL:https://reginaskiclub.ca/event/super-sunday-ski/
LOCATION:Trailhead Shelter\, White Butte Ski Trails\, White Butte Ski Trails\, Pilot Butte\, SK\, Canada
CATEGORIES:Club Events
ATTACH;FMTTYPE=image/jpeg:https://reginaskiclub.ca/wp-content/uploads/2023/01/wbt-skiers-rime-2023-01-21.jpg
ORGANIZER;CN="Leona Spruyt":MAILTO:lspruyt@sasktel.net
END:VEVENT
BEGIN:VEVENT
DTSTART;TZID=America/Regina:20231230T140000
DTEND;TZID=America/Regina:20231230T160000
DTSTAMP:20260424T163423
CREATED:20231208T175512Z
LAST-MODIFIED:20231220T231027Z
UID:8949-1703944800-1703952000@reginaskiclub.ca
SUMMARY:Walk in White Butte Wonderland
DESCRIPTION:[vc_row type=”in_container” full_screen_row_position=”middle” column_margin=”default” column_direction=”default” column_direction_tablet=”default” column_direction_phone=”default” scene_position=”center” text_color=”dark” text_align=”left” row_border_radius=”none” row_border_radius_applies=”bg” overlay_strength=”0.3″ gradient_direction=”left_to_right” shape_divider_position=”bottom” bg_image_animation=”none”][vc_column column_padding=”no-extra-padding” column_padding_tablet=”inherit” column_padding_phone=”inherit” column_padding_position=”all” column_element_spacing=”default” background_color_opacity=”1″ background_hover_color_opacity=”1″ column_shadow=”none” column_border_radius=”none” column_link_target=”_self” gradient_direction=”left_to_right” overlay_strength=”0.3″ width=”1/1″ tablet_width_inherit=”default” tablet_text_alignment=”default” phone_text_alignment=”default” bg_image_animation=”none” border_type=”simple” column_border_width=”none” column_border_style=”solid”][vc_column_text]\nLet’s celebrate together! \nWalk the trails and meet and greet fellow ski club members at the next social gathering!\nIf there is sufficient snow for groomed trails\, we’ll be skiing – More reason to celebrate\nFamily and friends are welcome \nDecember 30th 2:00 – 4:00 pm\nWhite Butte main trailhead ski shelter \nCoffee\, hot chocolate will be served.\nBring your own snacks to share (leftover Christmas baking perhaps?) \n[/vc_column_text][/vc_column][/vc_row]
URL:https://reginaskiclub.ca/event/walk-in-white-butte-wonderland/
LOCATION:Trailhead Shelter\, White Butte Ski Trails\, White Butte Ski Trails\, Pilot Butte\, SK\, Canada
CATEGORIES:Club Events
ATTACH;FMTTYPE=image/jpeg:https://reginaskiclub.ca/wp-content/uploads/2023/12/play-stay-social-wbt-2023-03-18.jpg
ORGANIZER;CN="Leona Spruyt":MAILTO:lspruyt@sasktel.net
END:VEVENT
BEGIN:VEVENT
DTSTART;TZID=America/Regina:20231022T100000
DTEND;TZID=America/Regina:20231022T140000
DTSTAMP:20260424T163423
CREATED:20231018T144425Z
LAST-MODIFIED:20231018T144615Z
UID:8641-1697968800-1697983200@reginaskiclub.ca
SUMMARY:White Butte Trail Cleanup 2023
DESCRIPTION:[vc_row type=”in_container” full_screen_row_position=”middle” column_margin=”default” column_direction=”default” column_direction_tablet=”default” column_direction_phone=”default” scene_position=”center” text_color=”dark” text_align=”left” row_border_radius=”none” row_border_radius_applies=”bg” overlay_strength=”0.3″ gradient_direction=”left_to_right” shape_divider_position=”bottom” bg_image_animation=”none”][vc_column column_padding=”no-extra-padding” column_padding_tablet=”inherit” column_padding_phone=”inherit” column_padding_position=”all” column_element_spacing=”default” background_color_opacity=”1″ background_hover_color_opacity=”1″ column_shadow=”none” column_border_radius=”none” column_link_target=”_self” gradient_direction=”left_to_right” overlay_strength=”0.3″ width=”1/1″ tablet_width_inherit=”default” tablet_text_alignment=”default” phone_text_alignment=”default” bg_image_animation=”none” border_type=”simple” column_border_width=”none” column_border_style=”solid”][vc_column_text]The snow is coming so lets clean up White Butte Trails! \nThe Regina Ski Club annual volunteer “White Butte Trail Cleanup Day”\, which was abandoned in 2020\, is being revived by popular demand. Volunteers will meet at the WBT main trailhead about 10:00 AM on Sunday October 22\, weather permitting\, to receive instructions. Volunteers will be assigned to one of five groups to be lead by a RSC trail groomer\, to trim trail edges of tree/shrub branches. Bring hand held branch clipping tools & wear sturdy clothes\, shoes & gloves.  Water bottles would also be advised. The work session will take about 2-3 hours\, after which a hot dog BBQ & other refreshments will be provided under direction of RSC Social Director Leona Spruyt. Due to weather the date may need to change but an email notice will be circulated to RSC members a couple of days in advance confirming or adjusting the date. If you are not an RSC member\, call Gregg (306-535-8213) for updated information.[/vc_column_text][/vc_column][/vc_row]
URL:https://reginaskiclub.ca/event/white-butte-trail-cleanup/
LOCATION:Trailhead Shelter\, White Butte Ski Trails\, White Butte Ski Trails\, Pilot Butte\, SK\, Canada
CATEGORIES:Club Events
ATTACH;FMTTYPE=image/jpeg:https://reginaskiclub.ca/wp-content/uploads/2023/10/WBT_Clean-Up_2014_006.jpg
END:VEVENT
BEGIN:VEVENT
DTSTART;TZID=America/Regina:20230318T143000
DTEND;TZID=America/Regina:20230318T153000
DTSTAMP:20260424T163423
CREATED:20230207T154004Z
LAST-MODIFIED:20230311T032059Z
UID:8371-1679149800-1679153400@reginaskiclub.ca
SUMMARY:Play and Stay Social at White Butte Trails
DESCRIPTION:[vc_row type=”in_container” full_screen_row_position=”middle” column_margin=”default” column_direction=”default” column_direction_tablet=”default” column_direction_phone=”default” scene_position=”center” text_color=”dark” text_align=”left” row_border_radius=”none” row_border_radius_applies=”bg” overlay_strength=”0.3″ gradient_direction=”left_to_right” shape_divider_position=”bottom” bg_image_animation=”none”][vc_column column_padding=”no-extra-padding” column_padding_tablet=”inherit” column_padding_phone=”inherit” column_padding_position=”all” column_element_spacing=”default” background_color_opacity=”1″ background_hover_color_opacity=”1″ column_shadow=”none” column_border_radius=”none” column_link_target=”_self” gradient_direction=”left_to_right” overlay_strength=”0.3″ width=”1/1″ tablet_width_inherit=”default” tablet_text_alignment=”default” phone_text_alignment=”default” bg_image_animation=”none” border_type=”simple” column_border_width=”none” column_border_style=”solid”][vc_column_text]\nSave the date!\nCome to White Butte Trails on March 18 to celebrate the end of the 2022-23 ski season with fellow ski club members.\nPlan to ski before and / or after the social. \nThis event was postponed from March 11. \nYou are invited to attend\nRegina Ski Club’s BBQ Social at White Butte.\nMeet up with friends at the Nordic Ski Shelter.\nSaturday\, March 11th from 2:30 to 3:30\nHot dogs and beverages will be provided. \n[/vc_column_text][/vc_column][/vc_row]
URL:https://reginaskiclub.ca/event/nordic-biathlon-late-season-social-at-white-butte/
LOCATION:Trailhead Shelter\, White Butte Ski Trails\, White Butte Ski Trails\, Pilot Butte\, SK\, Canada
CATEGORIES:Club Events
ATTACH;FMTTYPE=image/jpeg:https://reginaskiclub.ca/wp-content/uploads/2022/02/trailhead-Sunday-crowd-c.jpg
ORGANIZER;CN="Leona Spruyt":MAILTO:lspruyt@sasktel.net
END:VEVENT
BEGIN:VEVENT
DTSTART;TZID=America/Regina:20230311T143000
DTEND;TZID=America/Regina:20230311T153000
DTSTAMP:20260424T163423
CREATED:20230311T031804Z
LAST-MODIFIED:20230311T032839Z
UID:8426-1678545000-1678548600@reginaskiclub.ca
SUMMARY:Play and Stay Social at White Butte Trails - Postponed one week
DESCRIPTION:[vc_row type=”in_container” full_screen_row_position=”middle” column_margin=”default” column_direction=”default” column_direction_tablet=”default” column_direction_phone=”default” scene_position=”center” text_color=”dark” text_align=”left” row_border_radius=”none” row_border_radius_applies=”bg” overlay_strength=”0.3″ gradient_direction=”left_to_right” shape_divider_position=”bottom” bg_image_animation=”none”][vc_column column_padding=”no-extra-padding” column_padding_tablet=”inherit” column_padding_phone=”inherit” column_padding_position=”all” column_element_spacing=”default” background_color_opacity=”1″ background_hover_color_opacity=”1″ column_shadow=”none” column_border_radius=”none” column_link_target=”_self” gradient_direction=”left_to_right” overlay_strength=”0.3″ width=”1/1″ tablet_width_inherit=”default” tablet_text_alignment=”default” phone_text_alignment=”default” bg_image_animation=”none” border_type=”simple” column_border_width=”none” column_border_style=”solid”][vc_column_text]\nSadly\, this event has been postponed a week to March 18 due to blizzard forecast. \nSave the date!\nCome to White Butte Trails on March 11 to celebrate the end of the 2022-23 ski season with fellow ski club members.\nPlan to ski before and / or after the social. \nYou are invited to attend\nRegina Ski Club’s BBQ Social at White Butte.\nMeet up with friends at the Nordic Ski Shelter.\nSaturday\, March 11th from 2:30 to 3:30\nHot dogs and beverages will be provided. \n[/vc_column_text][/vc_column][/vc_row]
URL:https://reginaskiclub.ca/event/play-and-stay-social-at-white-butte-trails-postponed-one-week/
LOCATION:Trailhead Shelter\, White Butte Ski Trails\, White Butte Ski Trails\, Pilot Butte\, SK\, Canada
CATEGORIES:Club Events
ATTACH;FMTTYPE=image/png:https://reginaskiclub.ca/wp-content/uploads/2023/03/event-postponed.png
ORGANIZER;CN="Leona Spruyt":MAILTO:lspruyt@sasktel.net
END:VEVENT
BEGIN:VEVENT
DTSTART;TZID=America/Regina:20230304T090000
DTEND;TZID=America/Regina:20230304T180000
DTSTAMP:20260424T163423
CREATED:20230222T203526Z
LAST-MODIFIED:20230222T203526Z
UID:8409-1677920400-1677952800@reginaskiclub.ca
SUMMARY:Ski With the Ski Patrol Day - Nordic
DESCRIPTION:[vc_row type=”in_container” full_screen_row_position=”middle” column_margin=”default” column_direction=”default” column_direction_tablet=”default” column_direction_phone=”default” scene_position=”center” text_color=”dark” text_align=”left” row_border_radius=”none” row_border_radius_applies=”bg” overlay_strength=”0.3″ gradient_direction=”left_to_right” shape_divider_position=”bottom” bg_image_animation=”none”][vc_column column_padding=”no-extra-padding” column_padding_tablet=”inherit” column_padding_phone=”inherit” column_padding_position=”all” column_element_spacing=”default” background_color_opacity=”1″ background_hover_color_opacity=”1″ column_shadow=”none” column_border_radius=”none” column_link_target=”_self” gradient_direction=”left_to_right” overlay_strength=”0.3″ width=”1/1″ tablet_width_inherit=”default” tablet_text_alignment=”default” phone_text_alignment=”default” bg_image_animation=”none” border_type=”simple” column_border_width=”none” column_border_style=”solid”][vc_column_text]Our friends at the Canadian Ski Patrol (CSP) are looking for snowboarders\, alpine and cross-country skiers interested in joining the patrols in Saskatchewan Division. \nDo you want to do something different with your winters\, feel good about helping people\, and make a lot of friends while you’re doing it?  Then join them on March 4 at Ski With the Patrol Day to learn more about the Canadian Ski Patrol\, what a typical patroller’s day is like\, and how you can become a volunteer member of this national organization. \nThe cross-country event will be held at White Butte Trails. Alpine events will be held at several downhill ski resorts\, including Mission Ridge at Fort Qu’Appelle. \nTo register\, email joinus.sask@skipatrol.ca \nMembers of the Canadian Ski Patrol\, Qu’Appelle Zone provide ski patrol services at Mission Ridge Winter Park in Fort Qu’Appelle. Ski Patrol members also provide first aid services to community events in Regina and nearby towns. This includes Biathlon and Nordic Ski races\, as  well as walks\, runs\, marathons\, and triathlons.[/vc_column_text][/vc_column][/vc_row]
URL:https://reginaskiclub.ca/event/ski-with-the-ski-patrol-day-nordic/
LOCATION:Trailhead Shelter\, White Butte Ski Trails\, White Butte Ski Trails\, Pilot Butte\, SK\, Canada
CATEGORIES:Club Events
ATTACH;FMTTYPE=image/jpeg:https://reginaskiclub.ca/wp-content/uploads/2022/02/ski-with-patrol.jpg
ORGANIZER;CN="Canadian Ski Patrol - Saskatchewan":MAILTO:joinus.sask@skipatrol.ca
END:VEVENT
BEGIN:VEVENT
DTSTART;TZID=America/Regina:20220312T140000
DTEND;TZID=America/Regina:20220312T150000
DTSTAMP:20260424T163423
CREATED:20220222T184733Z
LAST-MODIFIED:20220308T195936Z
UID:7525-1647093600-1647097200@reginaskiclub.ca
SUMMARY:Nordic Winter Wind-up at White Butte
DESCRIPTION:[vc_row type=”in_container” full_screen_row_position=”middle” column_margin=”default” column_direction=”default” column_direction_tablet=”default” column_direction_phone=”default” scene_position=”center” text_color=”dark” text_align=”left” row_border_radius=”none” row_border_radius_applies=”bg” overlay_strength=”0.3″ gradient_direction=”left_to_right” shape_divider_position=”bottom” bg_image_animation=”none”][vc_column column_padding=”no-extra-padding” column_padding_tablet=”inherit” column_padding_phone=”inherit” column_padding_position=”all” column_element_spacing=”default” background_color_opacity=”1″ background_hover_color_opacity=”1″ column_shadow=”none” column_border_radius=”none” column_link_target=”_self” gradient_direction=”left_to_right” overlay_strength=”0.3″ width=”1/1″ tablet_width_inherit=”default” tablet_text_alignment=”default” phone_text_alignment=”default” bg_image_animation=”none” border_type=”simple” column_border_width=”none” column_border_style=”solid”][vc_column_text]\nSave the date!\nCome to White Butte Trails on March 12 to celebrate the end of the 2021-22 ski season\, outdoors\, in person\, with fellow ski club members. Plan to ski before and / or after the social. \nYou are invited to attend \n Regina Ski Club’s Winter Wind-Up at White Butte. \nMeet up with friends outdoors at the Nordic Ski Shelter. \nSaturday\, March 12th from 2:00 to 3:00 \nPre-packaged snacks will be provided. \nBring your own beverages. \nSki club toques will be available to purchase – $20 \nThis is being held in place of the Regina Ski Club’s annual Wind-up Potluck/Social. \n[/vc_column_text][/vc_column][/vc_row]
URL:https://reginaskiclub.ca/event/winter-wind-up-at-white-butte/
LOCATION:Trailhead Shelter\, White Butte Ski Trails\, White Butte Ski Trails\, Pilot Butte\, SK\, Canada
CATEGORIES:Club Events
ATTACH;FMTTYPE=image/jpeg:https://reginaskiclub.ca/wp-content/uploads/2022/02/trailhead-Sunday-crowd-c.jpg
ORGANIZER;CN="Leona Spruyt":MAILTO:lspruyt@sasktel.net
END:VEVENT
END:VCALENDAR