BEGIN:VCALENDAR
VERSION:2.0
PRODID:-//Regina Ski Club - ECPv6.15.11//NONSGML v1.0//EN
CALSCALE:GREGORIAN
METHOD:PUBLISH
X-ORIGINAL-URL:https://reginaskiclub.ca
X-WR-CALDESC:Events for Regina Ski Club
REFRESH-INTERVAL;VALUE=DURATION:PT1H
X-Robots-Tag:noindex
X-PUBLISHED-TTL:PT1H
BEGIN:VTIMEZONE
TZID:America/Regina
BEGIN:STANDARD
TZOFFSETFROM:-0600
TZOFFSETTO:-0600
TZNAME:CST
DTSTART:20210101T000000
END:STANDARD
END:VTIMEZONE
BEGIN:VEVENT
DTSTART;VALUE=DATE:20230114
DTEND;VALUE=DATE:20230115
DTSTAMP:20260424T181026
CREATED:20221028T205946Z
LAST-MODIFIED:20221028T210446Z
UID:7990-1673654400-1673740799@reginaskiclub.ca
SUMMARY:Alpine Adaptive Training Day
DESCRIPTION:[vc_row type=”in_container” full_screen_row_position=”middle” column_margin=”default” column_direction=”default” column_direction_tablet=”default” column_direction_phone=”default” scene_position=”center” text_color=”dark” text_align=”left” row_border_radius=”none” row_border_radius_applies=”bg” overlay_strength=”0.3″ gradient_direction=”left_to_right” shape_divider_position=”bottom” bg_image_animation=”none”][vc_column column_padding=”no-extra-padding” column_padding_tablet=”inherit” column_padding_phone=”inherit” column_padding_position=”all” column_element_spacing=”default” background_color_opacity=”1″ background_hover_color_opacity=”1″ column_shadow=”none” column_border_radius=”none” column_link_target=”_self” gradient_direction=”left_to_right” overlay_strength=”0.3″ width=”1/1″ tablet_width_inherit=”default” tablet_text_alignment=”default” phone_text_alignment=”default” bg_image_animation=”none” border_type=”simple” column_border_width=”none” column_border_style=”solid”][vc_column_text]This is one of a series of five Alpine Adaptive training sessions held at Mission Ridge in Fort Qu’Appelle on various Saturdays between January 14 2022 and March 11 2023. The cost of this program is $150 for the year. This includes the five training sessions as well as the SaskTel Challenge Cup. \nFor further information\, contact Gord Poulton or Carrie Darin or Luc Lemoine at reginaaaskiprogram@gmail.com[/vc_column_text][/vc_column][/vc_row][vc_row type=”in_container” full_screen_row_position=”middle” column_margin=”default” column_direction=”default” column_direction_tablet=”default” column_direction_phone=”default” scene_position=”center” text_color=”dark” text_align=”left” row_border_radius=”none” row_border_radius_applies=”bg” overlay_strength=”0.3″ gradient_direction=”left_to_right” shape_divider_position=”bottom” bg_image_animation=”none”][vc_column column_padding=”no-extra-padding” column_padding_tablet=”inherit” column_padding_phone=”inherit” column_padding_position=”all” column_element_spacing=”default” centered_text=”true” background_color_opacity=”1″ background_hover_color_opacity=”1″ column_shadow=”none” column_border_radius=”none” column_link_target=”_self” gradient_direction=”left_to_right” overlay_strength=”0.3″ width=”1/1″ tablet_width_inherit=”default” tablet_text_alignment=”default” phone_text_alignment=”default” bg_image_animation=”none” border_type=”simple” column_border_width=”none” column_border_style=”solid”][nectar_btn size=”large” button_style=”regular” button_color_2=”Accent-Color” solid_text_color_override=”#ffffff” icon_family=”none” text=”More Information” url=”https://reginaskiclub.ca/programs/alpine-adaptive-ski-program/”][/vc_column][/vc_row]
URL:https://reginaskiclub.ca/event/alpine-adaptive-training-day-2/2023-01-14/
LOCATION:Mission Ridge Winter Park\, 800 Sioux Avenue\, Fort Qu'Appelle\, SK
CATEGORIES:Alpine Adaptive
ATTACH;FMTTYPE=image/jpeg:https://reginaskiclub.ca/wp-content/uploads/2021/08/56306638_10157041595691083_4431814488877957120_o.jpg
ORGANIZER;CN="Gord Poulton":MAILTO:reginaaaskiprogram@gmail.com
END:VEVENT
BEGIN:VEVENT
DTSTART;VALUE=DATE:20221212
DTEND;VALUE=DATE:20221219
DTSTAMP:20260424T181026
CREATED:20221028T163956Z
LAST-MODIFIED:20221028T163956Z
UID:7976-1670803200-1671407999@reginaskiclub.ca
SUMMARY:Alpine Adaptive - Para Camp
DESCRIPTION:[vc_row type=”in_container” full_screen_row_position=”middle” column_margin=”default” column_direction=”default” column_direction_tablet=”default” column_direction_phone=”default” scene_position=”center” text_color=”dark” text_align=”left” row_border_radius=”none” row_border_radius_applies=”bg” overlay_strength=”0.3″ gradient_direction=”left_to_right” shape_divider_position=”bottom” bg_image_animation=”none”][vc_column column_padding=”no-extra-padding” column_padding_tablet=”inherit” column_padding_phone=”inherit” column_padding_position=”all” column_element_spacing=”default” background_color_opacity=”1″ background_hover_color_opacity=”1″ column_shadow=”none” column_border_radius=”none” column_link_target=”_self” gradient_direction=”left_to_right” overlay_strength=”0.3″ width=”1/1″ tablet_width_inherit=”default” tablet_text_alignment=”default” phone_text_alignment=”default” bg_image_animation=”none” border_type=”simple” column_border_width=”none” column_border_style=”solid”][vc_column_text]Coordinator – Gord Poulton. Location – Silver Star Resort near Vernon BC. Cost not included in the Alpine Adaptive annual training fee.[/vc_column_text][/vc_column][/vc_row]
URL:https://reginaskiclub.ca/event/alpine-adaptive-para-camp-2/
LOCATION:Silver Star Mountain Resort\, 123 Shortt St\, Silver Star Mountain\, BC\, V1B 3M1\, Canada
CATEGORIES:Alpine Adaptive
ATTACH;FMTTYPE=image/jpeg:https://reginaskiclub.ca/wp-content/uploads/2021/08/IMG_1611.jpg
ORGANIZER;CN="Gord Poulton":MAILTO:reginaaaskiprogram@gmail.com
END:VEVENT
END:VCALENDAR