BEGIN:VCALENDAR
VERSION:2.0
PRODID:-//Regina Ski Club - ECPv6.15.11//NONSGML v1.0//EN
CALSCALE:GREGORIAN
METHOD:PUBLISH
X-ORIGINAL-URL:https://reginaskiclub.ca
X-WR-CALDESC:Events for Regina Ski Club
REFRESH-INTERVAL;VALUE=DURATION:PT1H
X-Robots-Tag:noindex
X-PUBLISHED-TTL:PT1H
BEGIN:VTIMEZONE
TZID:America/Regina
BEGIN:STANDARD
TZOFFSETFROM:-0600
TZOFFSETTO:-0600
TZNAME:CST
DTSTART:20230101T000000
END:STANDARD
END:VTIMEZONE
BEGIN:VEVENT
DTSTART;TZID=America/Regina:20240120T100000
DTEND;TZID=America/Regina:20240120T140000
DTSTAMP:20260424T182818
CREATED:20240114T204538Z
LAST-MODIFIED:20240114T204538Z
UID:9030-1705744800-1705759200@reginaskiclub.ca
SUMMARY:Esterhazy Loppet and Fat Bike Ride
DESCRIPTION:[vc_row type=”in_container” full_screen_row_position=”middle” column_margin=”default” column_direction=”default” column_direction_tablet=”default” column_direction_phone=”default” scene_position=”center” text_color=”dark” text_align=”left” row_border_radius=”none” row_border_radius_applies=”bg” overlay_strength=”0.3″ gradient_direction=”left_to_right” shape_divider_position=”bottom” bg_image_animation=”none”][vc_column column_padding=”no-extra-padding” column_padding_tablet=”inherit” column_padding_phone=”inherit” column_padding_position=”all” column_element_spacing=”default” background_color_opacity=”1″ background_hover_color_opacity=”1″ column_shadow=”none” column_border_radius=”none” column_link_target=”_self” gradient_direction=”left_to_right” overlay_strength=”0.3″ width=”1/1″ tablet_width_inherit=”default” tablet_text_alignment=”default” phone_text_alignment=”default” bg_image_animation=”none” border_type=”simple” column_border_width=”none” column_border_style=”solid”][image_with_animation image_url=”9029″ animation=”Fade In” hover_animation=”none” alignment=”center” img_link_large=”yes” border_radius=”none” box_shadow=”none” image_loading=”default” max_width=”100%” max_width_mobile=”default”][/vc_column][/vc_row]
URL:https://reginaskiclub.ca/event/esterhazy-loppet-and-fat-bike-ride/
LOCATION:Donald Trails\, Esterhazy\, MX95+7G\, Esterhazy\, Saskatchewan
CATEGORIES:Nordic Trips
ATTACH;FMTTYPE=image/jpeg:https://reginaskiclub.ca/wp-content/uploads/2024/01/esterhazy-ski-trail.jpg
ORGANIZER;CN="Lorne Schentag":MAILTO:lmschentag@sasktel.net
END:VEVENT
END:VCALENDAR