BEGIN:VCALENDAR
VERSION:2.0
PRODID:-//Regina Ski Club - ECPv6.15.11//NONSGML v1.0//EN
CALSCALE:GREGORIAN
METHOD:PUBLISH
X-WR-CALNAME:Regina Ski Club
X-ORIGINAL-URL:https://reginaskiclub.ca
X-WR-CALDESC:Events for Regina Ski Club
REFRESH-INTERVAL;VALUE=DURATION:PT1H
X-Robots-Tag:noindex
X-PUBLISHED-TTL:PT1H
BEGIN:VTIMEZONE
TZID:America/Regina
BEGIN:STANDARD
TZOFFSETFROM:-0600
TZOFFSETTO:-0600
TZNAME:CST
DTSTART:20220101T000000
END:STANDARD
END:VTIMEZONE
BEGIN:VEVENT
DTSTART;VALUE=DATE:20250111
DTEND;VALUE=DATE:20250112
DTSTAMP:20260424T181827
CREATED:20241203T034703Z
LAST-MODIFIED:20241203T034703Z
UID:9561-1736553600-1736639999@reginaskiclub.ca
SUMMARY:Alpine Adaptive -Program Days 2024
DESCRIPTION:[vc_row type=”in_container” full_screen_row_position=”middle” column_margin=”default” column_direction=”default” column_direction_tablet=”default” column_direction_phone=”default” scene_position=”center” text_color=”dark” text_align=”left” row_border_radius=”none” row_border_radius_applies=”bg” overlay_strength=”0.3″ gradient_direction=”left_to_right” shape_divider_position=”bottom” bg_image_animation=”none”][vc_column column_padding=”no-extra-padding” column_padding_tablet=”inherit” column_padding_phone=”inherit” column_padding_position=”all” column_element_spacing=”default” background_color_opacity=”1″ background_hover_color_opacity=”1″ column_shadow=”none” column_border_radius=”none” column_link_target=”_self” gradient_direction=”left_to_right” overlay_strength=”0.3″ width=”1/1″ tablet_width_inherit=”default” tablet_text_alignment=”default” phone_text_alignment=”default” bg_image_animation=”none” border_type=”simple” column_border_width=”none” column_border_style=”solid”][vc_column_text]Training Day – Mission Ridge – Included in Membership Fees[/vc_column_text][/vc_column][/vc_row][vc_row type=”in_container” full_screen_row_position=”middle” column_margin=”default” column_direction=”default” column_direction_tablet=”default” column_direction_phone=”default” scene_position=”center” text_color=”dark” text_align=”left” row_border_radius=”none” row_border_radius_applies=”bg” overlay_strength=”0.3″ gradient_direction=”left_to_right” shape_divider_position=”bottom” bg_image_animation=”none” shape_type=””][vc_column column_padding=”no-extra-padding” column_padding_tablet=”inherit” column_padding_phone=”inherit” column_padding_position=”all” column_element_spacing=”default” centered_text=”true” background_color_opacity=”1″ background_hover_color_opacity=”1″ column_shadow=”none” column_border_radius=”none” column_link_target=”_self” gradient_direction=”left_to_right” overlay_strength=”0.3″ width=”1/2″ tablet_width_inherit=”default” tablet_text_alignment=”default” phone_text_alignment=”default” bg_image_animation=”none” border_type=”simple” column_border_width=”none” column_border_style=”solid”][nectar_btn size=”large” button_style=”regular” button_color_2=”Accent-Color” color_override=”#026dbb” solid_text_color_override=”#ffffff” icon_family=”none” text=”More Information” url=”https://reginaskiclub.ca/wp-content/uploads/2024/12/Regina-Ski-Club-Program-Info.-with-photo-2024-25-Draft-1-4.pdf”][/vc_column][vc_column column_padding=”no-extra-padding” column_padding_tablet=”inherit” column_padding_phone=”inherit” column_padding_position=”all” column_element_spacing=”default” centered_text=”true” background_color_opacity=”1″ background_hover_color_opacity=”1″ column_shadow=”none” column_border_radius=”none” column_link_target=”_self” gradient_direction=”left_to_right” overlay_strength=”0.3″ width=”1/2″ tablet_width_inherit=”default” tablet_text_alignment=”default” phone_text_alignment=”default” bg_image_animation=”none” border_type=”simple” column_border_width=”none” column_border_style=”solid”][/vc_column][/vc_row]
URL:https://reginaskiclub.ca/event/alpine-adaptive-program-days-2024-2/
LOCATION:Mission Ridge Winter Park\, 800 Sioux Avenue\, Fort Qu'Appelle\, SK
CATEGORIES:Alpine Adaptive
ATTACH;FMTTYPE=image/jpeg:https://reginaskiclub.ca/wp-content/uploads/2023/11/Asessippi-Adaptive-Skiing.jpg
ORGANIZER;CN="Gord Poulton":MAILTO:reginaaaskiprogram@gmail.com
END:VEVENT
BEGIN:VEVENT
DTSTART;VALUE=DATE:20241209
DTEND;VALUE=DATE:20241217
DTSTAMP:20260424T181827
CREATED:20241203T031711Z
LAST-MODIFIED:20241203T034121Z
UID:9548-1733702400-1734393599@reginaskiclub.ca
SUMMARY:Alpine Adaptive -Program Days 2024
DESCRIPTION:[vc_row type=”in_container” full_screen_row_position=”middle” column_margin=”default” column_direction=”default” column_direction_tablet=”default” column_direction_phone=”default” scene_position=”center” text_color=”dark” text_align=”left” row_border_radius=”none” row_border_radius_applies=”bg” overlay_strength=”0.3″ gradient_direction=”left_to_right” shape_divider_position=”bottom” bg_image_animation=”none”][vc_column column_padding=”no-extra-padding” column_padding_tablet=”inherit” column_padding_phone=”inherit” column_padding_position=”all” column_element_spacing=”default” background_color_opacity=”1″ background_hover_color_opacity=”1″ column_shadow=”none” column_border_radius=”none” column_link_target=”_self” gradient_direction=”left_to_right” overlay_strength=”0.3″ width=”1/1″ tablet_width_inherit=”default” tablet_text_alignment=”default” phone_text_alignment=”default” bg_image_animation=”none” border_type=”simple” column_border_width=”none” column_border_style=”solid”][vc_column_text]Silver Star BC  Camp  – Extra Cost ( Contact Gord Poulton)[/vc_column_text][/vc_column][/vc_row][vc_row type=”in_container” full_screen_row_position=”middle” column_margin=”default” column_direction=”default” column_direction_tablet=”default” column_direction_phone=”default” scene_position=”center” text_color=”dark” text_align=”left” row_border_radius=”none” row_border_radius_applies=”bg” overlay_strength=”0.3″ gradient_direction=”left_to_right” shape_divider_position=”bottom” bg_image_animation=”none” shape_type=””][vc_column column_padding=”no-extra-padding” column_padding_tablet=”inherit” column_padding_phone=”inherit” column_padding_position=”all” column_element_spacing=”default” centered_text=”true” background_color_opacity=”1″ background_hover_color_opacity=”1″ column_shadow=”none” column_border_radius=”none” column_link_target=”_self” gradient_direction=”left_to_right” overlay_strength=”0.3″ width=”1/2″ tablet_width_inherit=”default” tablet_text_alignment=”default” phone_text_alignment=”default” bg_image_animation=”none” border_type=”simple” column_border_width=”none” column_border_style=”solid”][nectar_btn size=”large” button_style=”regular” button_color_2=”Accent-Color” color_override=”#026dbb” solid_text_color_override=”#ffffff” icon_family=”none” text=”More Information” url=”https://reginaskiclub.ca/wp-content/uploads/2024/12/Regina-Ski-Club-Program-Info.-with-photo-2024-25-Draft-1-4.pdf”][/vc_column][vc_column column_padding=”no-extra-padding” column_padding_tablet=”inherit” column_padding_phone=”inherit” column_padding_position=”all” column_element_spacing=”default” centered_text=”true” background_color_opacity=”1″ background_hover_color_opacity=”1″ column_shadow=”none” column_border_radius=”none” column_link_target=”_self” gradient_direction=”left_to_right” overlay_strength=”0.3″ width=”1/2″ tablet_width_inherit=”default” tablet_text_alignment=”default” phone_text_alignment=”default” bg_image_animation=”none” border_type=”simple” column_border_width=”none” column_border_style=”solid”][/vc_column][/vc_row]
URL:https://reginaskiclub.ca/event/alpine-adaptive-program-days-2024/
LOCATION:Silver Star Mountain Resort\, 123 Shortt St\, Silver Star Mountain\, BC\, V1B 3M1\, Canada
CATEGORIES:Alpine Adaptive
ATTACH;FMTTYPE=image/jpeg:https://reginaskiclub.ca/wp-content/uploads/2023/11/Asessippi-Adaptive-Skiing.jpg
ORGANIZER;CN="Gord Poulton":MAILTO:reginaaaskiprogram@gmail.com
END:VEVENT
BEGIN:VEVENT
DTSTART;VALUE=DATE:20240323
DTEND;VALUE=DATE:20240324
DTSTAMP:20260424T181827
CREATED:20231105T183252Z
LAST-MODIFIED:20231105T184742Z
UID:8822-1711152000-1711238399@reginaskiclub.ca
SUMMARY:Alpine Adaptive - Asessippi Day Trip
DESCRIPTION:[vc_row type=”in_container” full_screen_row_position=”middle” column_margin=”default” column_direction=”default” column_direction_tablet=”default” column_direction_phone=”default” scene_position=”center” text_color=”dark” text_align=”left” row_border_radius=”none” row_border_radius_applies=”bg” overlay_strength=”0.3″ gradient_direction=”left_to_right” shape_divider_position=”bottom” bg_image_animation=”none”][vc_column column_padding=”no-extra-padding” column_padding_tablet=”inherit” column_padding_phone=”inherit” column_padding_position=”all” column_element_spacing=”default” background_color_opacity=”1″ background_hover_color_opacity=”1″ column_shadow=”none” column_border_radius=”none” column_link_target=”_self” gradient_direction=”left_to_right” overlay_strength=”0.3″ width=”1/1″ tablet_width_inherit=”default” tablet_text_alignment=”default” phone_text_alignment=”default” bg_image_animation=”none” border_type=”simple” column_border_width=”none” column_border_style=”solid”][vc_column_text]This is an optional end-of-season informal Alpine Adaptive day trip to Asessippi Ski Area and Resort located in the Assiniboine River valley near Inglis\, Manitoba.  The cost of this trip is not included in the $150 program fee for six Alpine Adaptive training sessions for the 2023-2024 ski season. \nFor further information\, contact Luc Lemoine at reginaaaskiprogram@gmail.com[/vc_column_text][/vc_column][/vc_row][vc_row type=”in_container” full_screen_row_position=”middle” column_margin=”default” column_direction=”default” column_direction_tablet=”default” column_direction_phone=”default” scene_position=”center” text_color=”dark” text_align=”left” row_border_radius=”none” row_border_radius_applies=”bg” overlay_strength=”0.3″ gradient_direction=”left_to_right” shape_divider_position=”bottom” bg_image_animation=”none” shape_type=””][vc_column column_padding=”no-extra-padding” column_padding_tablet=”inherit” column_padding_phone=”inherit” column_padding_position=”all” column_element_spacing=”default” centered_text=”true” background_color_opacity=”1″ background_hover_color_opacity=”1″ column_shadow=”none” column_border_radius=”none” column_link_target=”_self” gradient_direction=”left_to_right” overlay_strength=”0.3″ width=”1/2″ tablet_width_inherit=”default” tablet_text_alignment=”default” phone_text_alignment=”default” bg_image_animation=”none” border_type=”simple” column_border_width=”none” column_border_style=”solid”][nectar_btn size=”large” button_style=”regular” button_color_2=”Accent-Color” color_override=”#026dbb” solid_text_color_override=”#ffffff” icon_family=”none” text=”More Information” url=”https://reginaskiclub.ca/programs/alpine-adaptive-ski-program/”][/vc_column][vc_column column_padding=”no-extra-padding” column_padding_tablet=”inherit” column_padding_phone=”inherit” column_padding_position=”all” column_element_spacing=”default” centered_text=”true” background_color_opacity=”1″ background_hover_color_opacity=”1″ column_shadow=”none” column_border_radius=”none” column_link_target=”_self” gradient_direction=”left_to_right” overlay_strength=”0.3″ width=”1/2″ tablet_width_inherit=”default” tablet_text_alignment=”default” phone_text_alignment=”default” bg_image_animation=”none” border_type=”simple” column_border_width=”none” column_border_style=”solid”][nectar_btn size=”large” open_new_tab=”true” button_style=”regular” button_color_2=”Accent-Color” color_override=”#026dbb” solid_text_color_override=”#ffffff” icon_family=”none” text=”Asessippi Ski Resort” url=”https://asessippi.com/”][/vc_column][/vc_row]
URL:https://reginaskiclub.ca/event/alpine-adaptive-asessippi-day-trip/
LOCATION:Asessippi Ski Area and Resort\, Asessippi Ski Area and Resort\, Inglis\, MB\, R0J 0X0\, Canada
CATEGORIES:Alpine Adaptive
ATTACH;FMTTYPE=image/jpeg:https://reginaskiclub.ca/wp-content/uploads/2023/11/Asessippi-Adaptive-Skiing.jpg
ORGANIZER;CN="Luc Lemoine":MAILTO:reginaaaskiprogram@gmail.com
END:VEVENT
BEGIN:VEVENT
DTSTART;VALUE=DATE:20240120
DTEND;VALUE=DATE:20240121
DTSTAMP:20260424T181827
CREATED:20231104T025253Z
LAST-MODIFIED:20240110T224659Z
UID:8796-1705708800-1705795199@reginaskiclub.ca
SUMMARY:Alpine Adaptive Training Day
DESCRIPTION:[vc_row type=”in_container” full_screen_row_position=”middle” column_margin=”default” column_direction=”default” column_direction_tablet=”default” column_direction_phone=”default” scene_position=”center” text_color=”dark” text_align=”left” row_border_radius=”none” row_border_radius_applies=”bg” overlay_strength=”0.3″ gradient_direction=”left_to_right” shape_divider_position=”bottom” bg_image_animation=”none”][vc_column column_padding=”no-extra-padding” column_padding_tablet=”inherit” column_padding_phone=”inherit” column_padding_position=”all” column_element_spacing=”default” background_color_opacity=”1″ background_hover_color_opacity=”1″ column_shadow=”none” column_border_radius=”none” column_link_target=”_self” gradient_direction=”left_to_right” overlay_strength=”0.3″ width=”1/1″ tablet_width_inherit=”default” tablet_text_alignment=”default” phone_text_alignment=”default” bg_image_animation=”none” border_type=”simple” column_border_width=”none” column_border_style=”solid”][vc_column_text]This is one of a series of five Alpine Adaptive training sessions held at Mission Ridge in Fort Qu’Appelle on various Saturdays between January 13 and March 16 2024. The cost of this program is $150 for the year. This includes the five training sessions as well as the SaskTel Challenge Cup on February 10 2024. \nFor further information\, contact Gord Poulton or Carrie Darin or Luc Lemoine at reginaaaskiprogram@gmail.com[/vc_column_text][/vc_column][/vc_row][vc_row type=”in_container” full_screen_row_position=”middle” column_margin=”default” column_direction=”default” column_direction_tablet=”default” column_direction_phone=”default” scene_position=”center” text_color=”dark” text_align=”left” row_border_radius=”none” row_border_radius_applies=”bg” overlay_strength=”0.3″ gradient_direction=”left_to_right” shape_divider_position=”bottom” bg_image_animation=”none”][vc_column column_padding=”no-extra-padding” column_padding_tablet=”inherit” column_padding_phone=”inherit” column_padding_position=”all” column_element_spacing=”default” centered_text=”true” background_color_opacity=”1″ background_hover_color_opacity=”1″ column_shadow=”none” column_border_radius=”none” column_link_target=”_self” gradient_direction=”left_to_right” overlay_strength=”0.3″ width=”1/1″ tablet_width_inherit=”default” tablet_text_alignment=”default” phone_text_alignment=”default” bg_image_animation=”none” border_type=”simple” column_border_width=”none” column_border_style=”solid”][nectar_btn size=”large” button_style=”regular” button_color_2=”Accent-Color” color_override=”#026dbb” solid_text_color_override=”#ffffff” icon_family=”none” text=”More Information” url=”https://reginaskiclub.ca/programs/alpine-adaptive-ski-program/”][/vc_column][/vc_row]
URL:https://reginaskiclub.ca/event/alpine-adaptive-training-day-3-2024-01-20/2024-01-20/
LOCATION:Mission Ridge Winter Park\, 800 Sioux Avenue\, Fort Qu'Appelle\, SK
CATEGORIES:Alpine Adaptive
ATTACH;FMTTYPE=image/jpeg:https://reginaskiclub.ca/wp-content/uploads/2023/02/challenge-cup-7-scaled-e1675718601959.jpg
ORGANIZER;CN="Gord Poulton":MAILTO:reginaaaskiprogram@gmail.com
END:VEVENT
BEGIN:VEVENT
DTSTART;VALUE=DATE:20240113
DTEND;VALUE=DATE:20240114
DTSTAMP:20260424T181827
CREATED:20231104T025253Z
LAST-MODIFIED:20240110T225357Z
UID:8794-1705104000-1705190399@reginaskiclub.ca
SUMMARY:Alpine Adaptive Training Day - POSTPONED
DESCRIPTION:[vc_row type=”in_container” full_screen_row_position=”middle” column_margin=”default” column_direction=”default” column_direction_tablet=”default” column_direction_phone=”default” scene_position=”center” text_color=”dark” text_align=”left” row_border_radius=”none” row_border_radius_applies=”bg” overlay_strength=”0.3″ gradient_direction=”left_to_right” shape_divider_position=”bottom” bg_image_animation=”none”][vc_column column_padding=”no-extra-padding” column_padding_tablet=”inherit” column_padding_phone=”inherit” column_padding_position=”all” column_element_spacing=”default” background_color_opacity=”1″ background_hover_color_opacity=”1″ column_shadow=”none” column_border_radius=”none” column_link_target=”_self” gradient_direction=”left_to_right” overlay_strength=”0.3″ width=”1/1″ tablet_width_inherit=”default” tablet_text_alignment=”default” phone_text_alignment=”default” bg_image_animation=”none” border_type=”simple” column_border_width=”none” column_border_style=”solid”][vc_column_text]\nThis training day is POSTPONED due to extreme cold weather.\nThe date of the replacement training day is to be arranged and announced later. \nThis is one of a series of five Alpine Adaptive training sessions held at Mission Ridge in Fort Qu’Appelle on various Saturdays between January 13 and March 16 2024. The cost of this program is $150 for the year. This includes the five training sessions as well as the SaskTel Challenge Cup on February 10 2024. \nFor further information\, contact Gord Poulton or Carrie Darin or Luc Lemoine at reginaaaskiprogram@gmail.com[/vc_column_text][/vc_column][/vc_row][vc_row type=”in_container” full_screen_row_position=”middle” column_margin=”default” column_direction=”default” column_direction_tablet=”default” column_direction_phone=”default” scene_position=”center” text_color=”dark” text_align=”left” row_border_radius=”none” row_border_radius_applies=”bg” overlay_strength=”0.3″ gradient_direction=”left_to_right” shape_divider_position=”bottom” bg_image_animation=”none”][vc_column column_padding=”no-extra-padding” column_padding_tablet=”inherit” column_padding_phone=”inherit” column_padding_position=”all” column_element_spacing=”default” centered_text=”true” background_color_opacity=”1″ background_hover_color_opacity=”1″ column_shadow=”none” column_border_radius=”none” column_link_target=”_self” gradient_direction=”left_to_right” overlay_strength=”0.3″ width=”1/1″ tablet_width_inherit=”default” tablet_text_alignment=”default” phone_text_alignment=”default” bg_image_animation=”none” border_type=”simple” column_border_width=”none” column_border_style=”solid”][nectar_btn size=”large” button_style=”regular” button_color_2=”Accent-Color” color_override=”#026dbb” solid_text_color_override=”#ffffff” icon_family=”none” text=”More Information” url=”https://reginaskiclub.ca/programs/alpine-adaptive-ski-program/”][/vc_column][/vc_row]
URL:https://reginaskiclub.ca/event/alpine-adaptive-training-day-3/
LOCATION:Mission Ridge Winter Park\, 800 Sioux Avenue\, Fort Qu'Appelle\, SK
CATEGORIES:Alpine Adaptive
ATTACH;FMTTYPE=image/jpeg:https://reginaskiclub.ca/wp-content/uploads/2023/02/challenge-cup-7-scaled-e1675718601959.jpg
ORGANIZER;CN="Gord Poulton":MAILTO:reginaaaskiprogram@gmail.com
END:VEVENT
BEGIN:VEVENT
DTSTART;VALUE=DATE:20230311
DTEND;VALUE=DATE:20230312
DTSTAMP:20260424T181827
CREATED:20221028T205946Z
LAST-MODIFIED:20221028T211110Z
UID:8001-1678492800-1678579199@reginaskiclub.ca
SUMMARY:Alpine Adaptive Training Day / Races
DESCRIPTION:[vc_row type=”in_container” full_screen_row_position=”middle” column_margin=”default” column_direction=”default” column_direction_tablet=”default” column_direction_phone=”default” scene_position=”center” text_color=”dark” text_align=”left” row_border_radius=”none” row_border_radius_applies=”bg” overlay_strength=”0.3″ gradient_direction=”left_to_right” shape_divider_position=”bottom” bg_image_animation=”none”][vc_column column_padding=”no-extra-padding” column_padding_tablet=”inherit” column_padding_phone=”inherit” column_padding_position=”all” column_element_spacing=”default” background_color_opacity=”1″ background_hover_color_opacity=”1″ column_shadow=”none” column_border_radius=”none” column_link_target=”_self” gradient_direction=”left_to_right” overlay_strength=”0.3″ width=”1/1″ tablet_width_inherit=”default” tablet_text_alignment=”default” phone_text_alignment=”default” bg_image_animation=”none” border_type=”simple” column_border_width=”none” column_border_style=”solid”][vc_column_text]This is one of a series of five Alpine Adaptive training sessions held at Mission Ridge in Fort Qu’Appelle on various Saturdays between January 14 2022 and March 11 2023. In addition to being a regular training day\, this day will include end-of-season races. \nThe cost of this program is $150 for the year. This includes the five training sessions as well as the SaskTel Challenge Cup. \nFor further information\, contact Gord Poulton or Carrie Darin or Luc Lemoine at reginaaaskiprogram@gmail.com[/vc_column_text][/vc_column][/vc_row][vc_row type=”in_container” full_screen_row_position=”middle” column_margin=”default” column_direction=”default” column_direction_tablet=”default” column_direction_phone=”default” scene_position=”center” text_color=”dark” text_align=”left” row_border_radius=”none” row_border_radius_applies=”bg” overlay_strength=”0.3″ gradient_direction=”left_to_right” shape_divider_position=”bottom” bg_image_animation=”none”][vc_column column_padding=”no-extra-padding” column_padding_tablet=”inherit” column_padding_phone=”inherit” column_padding_position=”all” column_element_spacing=”default” centered_text=”true” background_color_opacity=”1″ background_hover_color_opacity=”1″ column_shadow=”none” column_border_radius=”none” column_link_target=”_self” gradient_direction=”left_to_right” overlay_strength=”0.3″ width=”1/1″ tablet_width_inherit=”default” tablet_text_alignment=”default” phone_text_alignment=”default” bg_image_animation=”none” border_type=”simple” column_border_width=”none” column_border_style=”solid”][nectar_btn size=”large” button_style=”regular” button_color_2=”Accent-Color” solid_text_color_override=”#ffffff” icon_family=”none” text=”More Information” url=”https://reginaskiclub.ca/programs/alpine-adaptive-ski-program/”][/vc_column][/vc_row]
URL:https://reginaskiclub.ca/event/alpine-adaptive-training-day-2-2023-03-11/
LOCATION:Mission Ridge Winter Park\, 800 Sioux Avenue\, Fort Qu'Appelle\, SK
CATEGORIES:Alpine Adaptive
ATTACH;FMTTYPE=image/jpeg:https://reginaskiclub.ca/wp-content/uploads/2021/08/56306638_10157041595691083_4431814488877957120_o.jpg
ORGANIZER;CN="Gord Poulton":MAILTO:reginaaaskiprogram@gmail.com
END:VEVENT
BEGIN:VEVENT
DTSTART;VALUE=DATE:20230114
DTEND;VALUE=DATE:20230115
DTSTAMP:20260424T181827
CREATED:20221028T205946Z
LAST-MODIFIED:20221028T210446Z
UID:7990-1673654400-1673740799@reginaskiclub.ca
SUMMARY:Alpine Adaptive Training Day
DESCRIPTION:[vc_row type=”in_container” full_screen_row_position=”middle” column_margin=”default” column_direction=”default” column_direction_tablet=”default” column_direction_phone=”default” scene_position=”center” text_color=”dark” text_align=”left” row_border_radius=”none” row_border_radius_applies=”bg” overlay_strength=”0.3″ gradient_direction=”left_to_right” shape_divider_position=”bottom” bg_image_animation=”none”][vc_column column_padding=”no-extra-padding” column_padding_tablet=”inherit” column_padding_phone=”inherit” column_padding_position=”all” column_element_spacing=”default” background_color_opacity=”1″ background_hover_color_opacity=”1″ column_shadow=”none” column_border_radius=”none” column_link_target=”_self” gradient_direction=”left_to_right” overlay_strength=”0.3″ width=”1/1″ tablet_width_inherit=”default” tablet_text_alignment=”default” phone_text_alignment=”default” bg_image_animation=”none” border_type=”simple” column_border_width=”none” column_border_style=”solid”][vc_column_text]This is one of a series of five Alpine Adaptive training sessions held at Mission Ridge in Fort Qu’Appelle on various Saturdays between January 14 2022 and March 11 2023. The cost of this program is $150 for the year. This includes the five training sessions as well as the SaskTel Challenge Cup. \nFor further information\, contact Gord Poulton or Carrie Darin or Luc Lemoine at reginaaaskiprogram@gmail.com[/vc_column_text][/vc_column][/vc_row][vc_row type=”in_container” full_screen_row_position=”middle” column_margin=”default” column_direction=”default” column_direction_tablet=”default” column_direction_phone=”default” scene_position=”center” text_color=”dark” text_align=”left” row_border_radius=”none” row_border_radius_applies=”bg” overlay_strength=”0.3″ gradient_direction=”left_to_right” shape_divider_position=”bottom” bg_image_animation=”none”][vc_column column_padding=”no-extra-padding” column_padding_tablet=”inherit” column_padding_phone=”inherit” column_padding_position=”all” column_element_spacing=”default” centered_text=”true” background_color_opacity=”1″ background_hover_color_opacity=”1″ column_shadow=”none” column_border_radius=”none” column_link_target=”_self” gradient_direction=”left_to_right” overlay_strength=”0.3″ width=”1/1″ tablet_width_inherit=”default” tablet_text_alignment=”default” phone_text_alignment=”default” bg_image_animation=”none” border_type=”simple” column_border_width=”none” column_border_style=”solid”][nectar_btn size=”large” button_style=”regular” button_color_2=”Accent-Color” solid_text_color_override=”#ffffff” icon_family=”none” text=”More Information” url=”https://reginaskiclub.ca/programs/alpine-adaptive-ski-program/”][/vc_column][/vc_row]
URL:https://reginaskiclub.ca/event/alpine-adaptive-training-day-2/2023-01-14/
LOCATION:Mission Ridge Winter Park\, 800 Sioux Avenue\, Fort Qu'Appelle\, SK
CATEGORIES:Alpine Adaptive
ATTACH;FMTTYPE=image/jpeg:https://reginaskiclub.ca/wp-content/uploads/2021/08/56306638_10157041595691083_4431814488877957120_o.jpg
ORGANIZER;CN="Gord Poulton":MAILTO:reginaaaskiprogram@gmail.com
END:VEVENT
END:VCALENDAR