BEGIN:VCALENDAR
VERSION:2.0
PRODID:-//Regina Ski Club - ECPv6.15.11//NONSGML v1.0//EN
CALSCALE:GREGORIAN
METHOD:PUBLISH
X-WR-CALNAME:Regina Ski Club
X-ORIGINAL-URL:https://reginaskiclub.ca
X-WR-CALDESC:Events for Regina Ski Club
REFRESH-INTERVAL;VALUE=DURATION:PT1H
X-Robots-Tag:noindex
X-PUBLISHED-TTL:PT1H
BEGIN:VTIMEZONE
TZID:America/Regina
BEGIN:STANDARD
TZOFFSETFROM:-0600
TZOFFSETTO:-0600
TZNAME:CST
DTSTART:20220101T000000
END:STANDARD
END:VTIMEZONE
BEGIN:VEVENT
DTSTART;TZID=America/Regina:20240420T190000
DTEND;TZID=America/Regina:20240420T210000
DTSTAMP:20260424T185044
CREATED:20240307T023451Z
LAST-MODIFIED:20240307T164108Z
UID:9185-1713639600-1713646800@reginaskiclub.ca
SUMMARY:Banff Mountain Film Festival - Arnica
DESCRIPTION:[vc_row type=”in_container” full_screen_row_position=”middle” column_margin=”default” column_direction=”default” column_direction_tablet=”default” column_direction_phone=”default” scene_position=”center” text_color=”dark” text_align=”left” row_border_radius=”none” row_border_radius_applies=”bg” overlay_strength=”0.3″ gradient_direction=”left_to_right” shape_divider_position=”bottom” bg_image_animation=”none”][vc_column column_padding=”no-extra-padding” column_padding_tablet=”inherit” column_padding_phone=”inherit” column_padding_position=”all” column_element_spacing=”default” background_color_opacity=”1″ background_hover_color_opacity=”1″ column_shadow=”none” column_border_radius=”none” column_link_target=”_self” gradient_direction=”left_to_right” overlay_strength=”0.3″ width=”1/1″ tablet_width_inherit=”default” tablet_text_alignment=”default” phone_text_alignment=”default” bg_image_animation=”none” border_type=”simple” column_border_width=”none” column_border_style=”solid”][vc_column_text]\n\nAPRIL 19 – 20\, 2024 \nBANFF CENTRE MOUNTAIN FILM FESTIVAL WORLD TOUR\n\n\n\nShowtimes\n\nFriday\, April 19 – 7:00pm – Paintbrush\nSaturday\, April 20 – 1:30pm – Fireweed\nSaturday\, April 20 – 7:00pm – Arnica\n\nEach of the three sessions will feature a different set of several short films. \n\n\n\nJoin the Great Plains section of the Alpine Club of Canada when Banff Centre Mountain Film Festival World Tour brings the spirit of outdoor adventure to Regina. The event will feature information booths\, raffle draws\, and opportunities to connect with fellow members of the Regina outdoor community. The Regina Ski Club will host one of the information booths. Be sure to come early! \nThe cost of the festival is $25 per session. Tickets are available from Darke Hall. \nSee the event page on the Darke Hall website for more information and to purchase tickets. \nSee a description of the Arnica program \n\n[/vc_column_text][/vc_column][/vc_row]
URL:https://reginaskiclub.ca/event/banff-mountain-film-festival-arnica/
LOCATION:Darke Hall\, 2255 College Ave\, Regina\, Saskatchewan\, S4P 0S9\, Canada
CATEGORIES:Club Events
ATTACH;FMTTYPE=image/jpeg:https://reginaskiclub.ca/wp-content/uploads/2024/03/8-credit-jb-liautard-redu-570x450-crop-39-21.jpg
END:VEVENT
BEGIN:VEVENT
DTSTART;TZID=America/Regina:20240420T133000
DTEND;TZID=America/Regina:20240420T153000
DTSTAMP:20260424T185044
CREATED:20240307T023349Z
LAST-MODIFIED:20240307T163936Z
UID:9183-1713619800-1713627000@reginaskiclub.ca
SUMMARY:Banff Mountain Film Festival - Fireweed
DESCRIPTION:[vc_row type=”in_container” full_screen_row_position=”middle” column_margin=”default” column_direction=”default” column_direction_tablet=”default” column_direction_phone=”default” scene_position=”center” text_color=”dark” text_align=”left” row_border_radius=”none” row_border_radius_applies=”bg” overlay_strength=”0.3″ gradient_direction=”left_to_right” shape_divider_position=”bottom” bg_image_animation=”none”][vc_column column_padding=”no-extra-padding” column_padding_tablet=”inherit” column_padding_phone=”inherit” column_padding_position=”all” column_element_spacing=”default” background_color_opacity=”1″ background_hover_color_opacity=”1″ column_shadow=”none” column_border_radius=”none” column_link_target=”_self” gradient_direction=”left_to_right” overlay_strength=”0.3″ width=”1/1″ tablet_width_inherit=”default” tablet_text_alignment=”default” phone_text_alignment=”default” bg_image_animation=”none” border_type=”simple” column_border_width=”none” column_border_style=”solid”][vc_column_text]\n\nAPRIL 19 – 20\, 2024 \nBANFF CENTRE MOUNTAIN FILM FESTIVAL WORLD TOUR\n\n\n\nShowtimes\n\nFriday\, April 19 – 7:00pm – Paintbrush\nSaturday\, April 20 – 1:30pm – Fireweed\nSaturday\, April 20 – 7:00pm – Arnica\n\nEach of the three sessions will feature a different set of several short films. \n\n\n\nJoin the Great Plains section of the Alpine Club of Canada when Banff Centre Mountain Film Festival World Tour brings the spirit of outdoor adventure to Regina. The event will feature information booths\, raffle draws\, and opportunities to connect with fellow members of the Regina outdoor community. The Regina Ski Club will host one of the information booths. Be sure to come early! \nThe cost of the festival is $25 per session. Tickets are available from Darke Hall. \nSee the event page on the Darke Hall website for more information and to purchase tickets. \nSee a description of the Fireweed program. \n\n[/vc_column_text][/vc_column][/vc_row]
URL:https://reginaskiclub.ca/event/banff-mountain-film-festival-fireweed/
LOCATION:Darke Hall\, 2255 College Ave\, Regina\, Saskatchewan\, S4P 0S9\, Canada
CATEGORIES:Club Events
ATTACH;FMTTYPE=image/jpeg:https://reginaskiclub.ca/wp-content/uploads/2024/03/8-credit-jb-liautard-redu-570x450-crop-39-21.jpg
END:VEVENT
BEGIN:VEVENT
DTSTART;TZID=America/Regina:20240419T190000
DTEND;TZID=America/Regina:20240419T210000
DTSTAMP:20260424T185044
CREATED:20240307T022726Z
LAST-MODIFIED:20240307T164227Z
UID:9176-1713553200-1713560400@reginaskiclub.ca
SUMMARY:Banff Mountain Film Festival - Paintbrush
DESCRIPTION:[vc_row type=”in_container” full_screen_row_position=”middle” column_margin=”default” column_direction=”default” column_direction_tablet=”default” column_direction_phone=”default” scene_position=”center” text_color=”dark” text_align=”left” row_border_radius=”none” row_border_radius_applies=”bg” overlay_strength=”0.3″ gradient_direction=”left_to_right” shape_divider_position=”bottom” bg_image_animation=”none”][vc_column column_padding=”no-extra-padding” column_padding_tablet=”inherit” column_padding_phone=”inherit” column_padding_position=”all” column_element_spacing=”default” background_color_opacity=”1″ background_hover_color_opacity=”1″ column_shadow=”none” column_border_radius=”none” column_link_target=”_self” gradient_direction=”left_to_right” overlay_strength=”0.3″ width=”1/1″ tablet_width_inherit=”default” tablet_text_alignment=”default” phone_text_alignment=”default” bg_image_animation=”none” border_type=”simple” column_border_width=”none” column_border_style=”solid”][vc_column_text]\n\nAPRIL 19 – 20\, 2024 \nBANFF CENTRE MOUNTAIN FILM FESTIVAL WORLD TOUR\n\n\n\nShowtimes\n\nFriday\, April 19 – 7:00pm – Paintbrush\nSaturday\, April 20 – 1:30pm – Fireweed\nSaturday\, April 20 – 7:00pm – Arnica\n\nEach of the three sessions will feature a different set of several short films. \n\n\n\nJoin the Great Plains section of the Alpine Club of Canada when Banff Centre Mountain Film Festival World Tour brings the spirit of outdoor adventure to Regina. The event will feature information booths\, raffle draws\, and opportunities to connect with fellow members of the Regina outdoor community. The Regina Ski Club will host one of the information booths. Be sure to come early! \nThe cost of the festival is $25 per session. Tickets are available from Darke Hall. \nSee the event page on the Darke Hall website for more information and to purchase tickets. \nSee a description of the Paintbrush program. \n\n[/vc_column_text][/vc_column][/vc_row]
URL:https://reginaskiclub.ca/event/banff-mountain-film-festival-paintbrush/
LOCATION:Darke Hall\, 2255 College Ave\, Regina\, Saskatchewan\, S4P 0S9\, Canada
CATEGORIES:Club Events
ATTACH;FMTTYPE=image/jpeg:https://reginaskiclub.ca/wp-content/uploads/2024/03/8-credit-jb-liautard-redu-570x450-crop-39-21.jpg
END:VEVENT
BEGIN:VEVENT
DTSTART;TZID=America/Regina:20230415T190000
DTEND;TZID=America/Regina:20230415T210000
DTSTAMP:20260424T185044
CREATED:20230330T162448Z
LAST-MODIFIED:20230330T162448Z
UID:8460-1681585200-1681592400@reginaskiclub.ca
SUMMARY:Banff Mountain Film Festival
DESCRIPTION:[vc_row type=”in_container” full_screen_row_position=”middle” column_margin=”default” column_direction=”default” column_direction_tablet=”default” column_direction_phone=”default” scene_position=”center” text_color=”dark” text_align=”left” row_border_radius=”none” row_border_radius_applies=”bg” overlay_strength=”0.3″ gradient_direction=”left_to_right” shape_divider_position=”bottom” bg_image_animation=”none”][vc_column column_padding=”no-extra-padding” column_padding_tablet=”inherit” column_padding_phone=”inherit” column_padding_position=”all” column_element_spacing=”default” background_color_opacity=”1″ background_hover_color_opacity=”1″ column_shadow=”none” column_border_radius=”none” column_link_target=”_self” gradient_direction=”left_to_right” overlay_strength=”0.3″ width=”1/1″ tablet_width_inherit=”default” tablet_text_alignment=”default” phone_text_alignment=”default” bg_image_animation=”none” border_type=”simple” column_border_width=”none” column_border_style=”solid”][vc_column_text]\n\nAPRIL 14 – 15\, 2023 \nBANFF CENTRE MOUNTAIN FILM FESTIVAL WORLD TOUR\n\n\n\nShowtimes\n\nFriday\, April 14 – 7:00pm\n\n\nSaturday\, April 15 – 7:00pm\n\n\n\n\nJoin the Great Plains section of the Alpine Club of Canada when Banff Centre Mountain Film Festival World Tour brings the spirit of outdoor adventure to Regina. The event will feature information booths\, raffle draws\, and opportunities to connect with fellow members of the Regina outdoor community. Be sure to come early! \nEach night will feature a different set of films. Descriptions and advisories are available below: \nFriday: Juniper Program \nSaturday: Willow Program \nThe cost of the festival is $25 per evening. Tickets are available from Darke Hall. \nSee the event page on the Darke Hall website for more information and to purchase tickets. \n\n[/vc_column_text][/vc_column][/vc_row]
URL:https://reginaskiclub.ca/event/banff-mountain-film-festival-2/
LOCATION:Darke Hall\, 2255 College Ave\, Regina\, Saskatchewan\, S4P 0S9\, Canada
CATEGORIES:Club Events
ATTACH;FMTTYPE=image/jpeg:https://reginaskiclub.ca/wp-content/uploads/2023/03/banff-mtn-willow.jpg
ORGANIZER;CN="Banff Mountain Film Festival":MAILTO:banff.mountain.film.festival@gmail.com
END:VEVENT
BEGIN:VEVENT
DTSTART;TZID=America/Regina:20230414T190000
DTEND;TZID=America/Regina:20230414T210000
DTSTAMP:20260424T185044
CREATED:20230330T162405Z
LAST-MODIFIED:20230330T162405Z
UID:8450-1681498800-1681506000@reginaskiclub.ca
SUMMARY:Banff Mountain Film Festival
DESCRIPTION:[vc_row type=”in_container” full_screen_row_position=”middle” column_margin=”default” column_direction=”default” column_direction_tablet=”default” column_direction_phone=”default” scene_position=”center” text_color=”dark” text_align=”left” row_border_radius=”none” row_border_radius_applies=”bg” overlay_strength=”0.3″ gradient_direction=”left_to_right” shape_divider_position=”bottom” bg_image_animation=”none”][vc_column column_padding=”no-extra-padding” column_padding_tablet=”inherit” column_padding_phone=”inherit” column_padding_position=”all” column_element_spacing=”default” background_color_opacity=”1″ background_hover_color_opacity=”1″ column_shadow=”none” column_border_radius=”none” column_link_target=”_self” gradient_direction=”left_to_right” overlay_strength=”0.3″ width=”1/1″ tablet_width_inherit=”default” tablet_text_alignment=”default” phone_text_alignment=”default” bg_image_animation=”none” border_type=”simple” column_border_width=”none” column_border_style=”solid”][vc_column_text]\n\nAPRIL 14 – 15\, 2023 \nBANFF CENTRE MOUNTAIN FILM FESTIVAL WORLD TOUR\n\n\n\nShowtimes\n\nFriday\, April 14 – 7:00pm\n\n\nSaturday\, April 15 – 7:00pm\n\n\n\n\nJoin the Great Plains section of the Alpine Club of Canada when Banff Centre Mountain Film Festival World Tour brings the spirit of outdoor adventure to Regina. The event will feature information booths\, raffle draws\, and opportunities to connect with fellow members of the Regina outdoor community. Be sure to come early! \nEach night will feature a different set of films. Descriptions and advisories are available below: \nFriday: Juniper Program \nSaturday: Willow Program \nThe cost of the festival is $25 per evening. Tickets are available from Darke Hall. \nSee the event page on the Darke Hall website for more information and to purchase tickets. \n\n[/vc_column_text][/vc_column][/vc_row]
URL:https://reginaskiclub.ca/event/banff-mountain-film-festival/
LOCATION:Darke Hall\, 2255 College Ave\, Regina\, Saskatchewan\, S4P 0S9\, Canada
CATEGORIES:Club Events
ATTACH;FMTTYPE=image/jpeg:https://reginaskiclub.ca/wp-content/uploads/2023/03/banff-mtn-juniper.jpg
ORGANIZER;CN="Banff Mountain Film Festival":MAILTO:banff.mountain.film.festival@gmail.com
END:VEVENT
END:VCALENDAR