BEGIN:VCALENDAR
VERSION:2.0
PRODID:-//Regina Ski Club - ECPv6.15.11//NONSGML v1.0//EN
CALSCALE:GREGORIAN
METHOD:PUBLISH
X-WR-CALNAME:Regina Ski Club
X-ORIGINAL-URL:https://reginaskiclub.ca
X-WR-CALDESC:Events for Regina Ski Club
REFRESH-INTERVAL;VALUE=DURATION:PT1H
X-Robots-Tag:noindex
X-PUBLISHED-TTL:PT1H
BEGIN:VTIMEZONE
TZID:America/Regina
BEGIN:STANDARD
TZOFFSETFROM:-0600
TZOFFSETTO:-0600
TZNAME:CST
DTSTART:20220101T000000
END:STANDARD
END:VTIMEZONE
BEGIN:VEVENT
DTSTART;VALUE=DATE:20230222
DTEND;VALUE=DATE:20230226
DTSTAMP:20260424T183209
CREATED:20221109T042459Z
LAST-MODIFIED:20221201T220506Z
UID:8060-1677024000-1677369599@reginaskiclub.ca
SUMMARY:Sask Winter Games 2023 - Cross-Country & Para-Nordic Skiing
DESCRIPTION:[vc_row type=”in_container” full_screen_row_position=”middle” column_margin=”default” column_direction=”default” column_direction_tablet=”default” column_direction_phone=”default” scene_position=”center” text_color=”dark” text_align=”left” row_border_radius=”none” row_border_radius_applies=”bg” overlay_strength=”0.3″ gradient_direction=”left_to_right” shape_divider_position=”bottom” bg_image_animation=”none”][vc_column column_padding=”no-extra-padding” column_padding_tablet=”inherit” column_padding_phone=”inherit” column_padding_position=”all” column_element_spacing=”default” background_color_opacity=”1″ background_hover_color_opacity=”1″ column_shadow=”none” column_border_radius=”none” column_link_target=”_self” gradient_direction=”left_to_right” overlay_strength=”0.3″ width=”1/1″ tablet_width_inherit=”default” tablet_text_alignment=”default” phone_text_alignment=”default” bg_image_animation=”none” border_type=”simple” column_border_width=”none” column_border_style=”solid”][vc_column_text]\nCross Country and Para Nordic Skiing take place February 22 to 25\nThe venue is Douglas Park in Wascana Centre\nThursday February 23: Foothills Ski Trails – freestyle ski races – 3 km or 6 km\nFriday February 24: Douglas Park Trail – north of Leibel Field – classic style sprints\nSaturday February 25: Douglas Park Trail – north of Leibel Field – classic style relays \n[/vc_column_text][vc_column_text]\nThe Saskatchewan Winter Games is a 17-sport competition among athletes age 11 to 18 from districts throughout the province\nSports include Alpine Skiing and Biathlon February 19 to 22\nand Cross Country and Para Nordic Ski February 22 to 25\nRegina is the host community. Venues will be in Regina and nearby\, depending on the sport\nTryouts to represent your district will be held at various times\, depending on the sport\nThe Winter Games requires many volunteer workers. Please consider volunteering\nFor details\, consult the Saskatchewan Winter Games 2023 website \n[/vc_column_text][/vc_column][/vc_row][vc_row type=”in_container” full_screen_row_position=”middle” column_margin=”default” column_direction=”default” column_direction_tablet=”default” column_direction_phone=”default” scene_position=”center” text_color=”dark” text_align=”left” row_border_radius=”none” row_border_radius_applies=”bg” overlay_strength=”0.3″ gradient_direction=”left_to_right” shape_divider_position=”bottom” bg_image_animation=”none”][vc_column column_padding=”no-extra-padding” column_padding_tablet=”inherit” column_padding_phone=”inherit” column_padding_position=”all” column_element_spacing=”default” centered_text=”true” background_color_opacity=”1″ background_hover_color_opacity=”1″ column_shadow=”none” column_border_radius=”none” column_link_target=”_self” gradient_direction=”left_to_right” overlay_strength=”0.3″ width=”1/2″ tablet_width_inherit=”default” tablet_text_alignment=”default” phone_text_alignment=”default” bg_image_animation=”none” border_type=”simple” column_border_width=”none” column_border_style=”solid”][nectar_btn size=”large” open_new_tab=”true” button_style=”regular” button_color_2=”Accent-Color” solid_text_color_override=”#ffffff” icon_family=”none” text=”Sask Winter Games Website – Nordic Ski” url=”https://saskgames.ca/winter/sports/cross-country-and-para-nordic-skiing”][/vc_column][vc_column column_padding=”no-extra-padding” column_padding_tablet=”inherit” column_padding_phone=”inherit” column_padding_position=”all” column_element_spacing=”default” centered_text=”true” background_color_opacity=”1″ background_hover_color_opacity=”1″ column_shadow=”none” column_border_radius=”none” column_link_target=”_self” gradient_direction=”left_to_right” overlay_strength=”0.3″ width=”1/2″ tablet_width_inherit=”default” tablet_text_alignment=”default” phone_text_alignment=”default” bg_image_animation=”none” border_type=”simple” column_border_width=”none” column_border_style=”solid”][nectar_btn size=”large” open_new_tab=”true” button_style=”regular” button_color_2=”Accent-Color” solid_text_color_override=”#ffffff” icon_family=”none” text=”Volunteer” url=”https://saskgames.ca/winter/volunteer”][/vc_column][/vc_row]
URL:https://reginaskiclub.ca/event/sask-winter-games-2023-cross-country-para-nordic-skiing/
LOCATION:Douglas Park\, Assiniboine Ave E & McDonald St\, Regina\, Saskatchewan\, Canada
ATTACH;FMTTYPE=image/jpeg:https://reginaskiclub.ca/wp-content/uploads/2022/11/rsc-nordic-race-wcc-2022-05-1.jpg
ORGANIZER;CN="Brennan Craig":MAILTO:queencitycraigs@gmail.com
END:VEVENT
END:VCALENDAR